BEGIN:VCALENDAR
VERSION:2.0
PRODID:-//Coach Lorenzo - Entrenador Basket - ECPv6.8.3//NONSGML v1.0//EN
CALSCALE:GREGORIAN
METHOD:PUBLISH
X-ORIGINAL-URL:https://coachlorenzo.com
X-WR-CALDESC:Eventos para Coach Lorenzo - Entrenador Basket
REFRESH-INTERVAL;VALUE=DURATION:PT1H
X-Robots-Tag:noindex
X-PUBLISHED-TTL:PT1H
BEGIN:VTIMEZONE
TZID:Europe/Helsinki
BEGIN:DAYLIGHT
TZOFFSETFROM:+0200
TZOFFSETTO:+0300
TZNAME:EEST
DTSTART:20230326T010000
END:DAYLIGHT
BEGIN:STANDARD
TZOFFSETFROM:+0300
TZOFFSETTO:+0200
TZNAME:EET
DTSTART:20231029T010000
END:STANDARD
BEGIN:DAYLIGHT
TZOFFSETFROM:+0200
TZOFFSETTO:+0300
TZNAME:EEST
DTSTART:20240331T010000
END:DAYLIGHT
BEGIN:STANDARD
TZOFFSETFROM:+0300
TZOFFSETTO:+0200
TZNAME:EET
DTSTART:20241027T010000
END:STANDARD
TZID:UTC
BEGIN:STANDARD
TZOFFSETFROM:+0000
TZOFFSETTO:+0000
TZNAME:UTC
DTSTART:20240101T000000
END:STANDARD
END:VTIMEZONE
BEGIN:VEVENT
DTSTART;TZID=Europe/Helsinki:20230903T213000
DTEND;TZID=Europe/Helsinki:20240616T133000
DTSTAMP:20260423T203008
CREATED:20220817T095700Z
LAST-MODIFIED:20230826T184056Z
UID:2527-1693776600-1718544600@coachlorenzo.com
SUMMARY:Programa tecnificaciones temporada 2023-24
DESCRIPTION:Programa tecnificación temporada 2022-23. \nEntrena con mis programas de entrenamiento y mejora tu técnica y tu juego\, para que pueda dar un paso como jugador. \nPuedes elegir entre dos sistemas de entrenamiento:\n– Hacemos una evaluación de tu técnica y establecemos un plan de trabajo\n– Elige que te gustaría mejorar y establecemos un plan de trabajo \nEl programa Tecnificación baloncesto se pueden empezar a partir de los 8 años y decidir si quieres hacer una o varias sesión por semana. \nLo más importante es tu motivación por mejorar. \nMás información de las sedes y horarios: https://coachlorenzo.com/programas/
URL:https://coachlorenzo.com/event/tecnificacion-baloncesto/
LOCATION:Can Ricart\, Carrer Sant Oleguer\, 10\, Barcelona\, Barcelona\, 08001\, España
CATEGORIES:Tecnificaciones
ATTACH;FMTTYPE=image/jpeg:https://coachlorenzo.com/wp-content/uploads/2019/08/Easter-Camp-Coach-Lorenzo.jpg
ORGANIZER;CN="Coach Lorenzo":MAILTO:info@coachlorenzo.com
END:VEVENT
BEGIN:VEVENT
DTSTART;TZID=UTC:20240625T090000
DTEND;TZID=UTC:20240809T130000
DTSTAMP:20260423T203008
CREATED:20230110T130044Z
LAST-MODIFIED:20230826T185118Z
UID:1953-1719306000-1723208400@coachlorenzo.com
SUMMARY:Campus de Verano Urban Summer Camp 2024
DESCRIPTION:Campus Tecnificación Baloncesto Urban Summer Camp 2024. \nRecupera tus sensaciones como jugador y prepárate para los retos de la nueva temporada. Ahora es tu momento \nSe aproximan las vacaciones de verano y seguramente tendrás más tiempo para mejorar tus fundamentos y tu juego. \nUrban Summer Camp es el campus que organizo durante las vacaciones de verano para que puedas continuar con tu entrenamiento y mejores aspectos que seguramente a lo largo de la temporada no dedicas el tiempo suficiente y que a final\, es lo que marca la diferencia entre ser un jugador y buen jugador de baloncesto. No esperes más y reserva tu plaza\, son limitadas. \nUrban Summer Camp estará limitado a un máximo de 4 grupos de 10 jugadores por semana y los agruparemos según la edad y el nivel de competencia. Trabajaremos las manos y los pies\, para que mejores el bote y tiro. La inscripción está abierta a jugadores de 10 a 18 años.
URL:https://coachlorenzo.com/event/campus-tecnificacion-baloncesto/
LOCATION:Cornellà Llobregat\, C/ de Sant Ferran\, 45\, Cornellà de Llobregat\, Barcelona\, 08940\, España
CATEGORIES:Campus
ATTACH;FMTTYPE=image/jpeg:https://coachlorenzo.com/wp-content/uploads/2019/08/Quien-Soy-Coach-Lorenzo-01.jpg
ORGANIZER;CN="Coach Lorenzo":MAILTO:info@coachlorenzo.com
END:VEVENT
END:VCALENDAR